BEGIN:VCALENDAR
VERSION:2.0
METHOD:PUBLISH
PRODID:-//ActiveDataExchange/NEXTGEN V1//EN
BEGIN:VEVENT
ORGANIZER:mailto:lohnesd@ritenourschools.org
DTSTART:20260506T211500Z
DTEND:20260506T214500Z
DTSTAMP:20260419T132615Z
LOCATION:Costilow Field House
SUMMARY:Volleyball, Boys Junior Varsity
DESCRIPTION:Volleyball, Boys Junior Varsity\nView the full event details here: https://eventpublisher.dudesolutions.com/ritenour/event/volleyball-boys-junior-varsity-47/
CATEGORIES:1-Athletics
CONTACT:Drew Lohnes,lohnesd@ritenourschools.org,314-493-6139
CLASS:PUBLIC
UID:A688430F-F27E-4128-B4D9-3C122F584388
BEGIN:VALARM
TRIGGER:-PT15M
ACTION:DISPLAY
DESCRIPTION:Volleyball, Boys Junior Varsity
END:VALARM
END:VEVENT
END:VCALENDAR
