BEGIN:VCALENDAR
VERSION:2.0
METHOD:PUBLISH
PRODID:-//ActiveDataExchange/NEXTGEN V1//EN
BEGIN:VEVENT
ORGANIZER:mailto:lohnesd@ritenourschools.org
DTSTART:20260507T210000Z
DTEND:20260507T213000Z
DTSTAMP:20260419T132521Z
LOCATION:Costilow Field House
SUMMARY:Volleyball, Boys Junior Varsity
DESCRIPTION:Volleyball, Boys Junior Varsity\nView the full event details here: https://eventpublisher.dudesolutions.com/ritenour/event/volleyball-boys-junior-varsity-48/
CATEGORIES:1-Athletics
CONTACT:Drew Lohnes,lohnesd@ritenourschools.org,314-493-6139
CLASS:PUBLIC
UID:F98D0B25-2212-4FFB-9E70-D78AEABC331B
BEGIN:VALARM
TRIGGER:-PT15M
ACTION:DISPLAY
DESCRIPTION:Volleyball, Boys Junior Varsity
END:VALARM
END:VEVENT
END:VCALENDAR
