BEGIN:VCALENDAR
VERSION:2.0
METHOD:PUBLISH
PRODID:-//ActiveDataExchange/NEXTGEN V1//EN
BEGIN:VEVENT
ORGANIZER:mailto:lohnesd@ritenourschools.org
DTSTART:20260427T211500Z
DTEND:20260427T214500Z
DTSTAMP:20260419T132626Z
LOCATION:Costilow Field House
SUMMARY:Volleyball, Boys Junior Varsity
DESCRIPTION:Volleyball, Boys Junior Varsity\nView the full event details here: https://eventpublisher.dudesolutions.com/ritenour/event/volleyball-boys-junior-varsity-50/
CATEGORIES:1-Athletics
CONTACT:Pat Burns,lohnesd@ritenourschools.org
CLASS:PUBLIC
UID:DBCB5649-DF74-469B-825C-07B0E0DFF1C0
BEGIN:VALARM
TRIGGER:-PT15M
ACTION:DISPLAY
DESCRIPTION:Volleyball, Boys Junior Varsity
END:VALARM
END:VEVENT
END:VCALENDAR
