BEGIN:VCALENDAR
VERSION:2.0
METHOD:PUBLISH
PRODID:-//ActiveDataExchange/NEXTGEN V1//EN
BEGIN:VEVENT
ORGANIZER:mailto:lohnesd@ritenourschools.org
DTSTART:20260423T211500Z
DTEND:20260423T214500Z
DTSTAMP:20260419T132626Z
LOCATION:Costilow Field House
SUMMARY:Cancelled - Volleyball, Boys Junior Varsity
DESCRIPTION:Volleyball, Boys Junior Varsity\nView the full event details here: https://eventpublisher.dudesolutions.com/ritenour/event/volleyball-boys-junior-varsity-54/
CATEGORIES:1-Athletics
CONTACT:Pat Burns,lohnesd@ritenourschools.org
CLASS:PUBLIC
UID:B55B644B-51D4-4769-ACDB-56B6565EA3E6
BEGIN:VALARM
TRIGGER:-PT15M
ACTION:DISPLAY
DESCRIPTION:Cancelled - Volleyball, Boys Junior Varsity
END:VALARM
END:VEVENT
END:VCALENDAR
