BEGIN:VCALENDAR
VERSION:2.0
METHOD:PUBLISH
PRODID:-//ActiveDataExchange/NEXTGEN V1//EN
BEGIN:VEVENT
ORGANIZER:mailto:lohnesd@ritenourschools.org
DTSTART:20260427T223000Z
DTEND:20260427T230000Z
DTSTAMP:20260419T132615Z
LOCATION:Costilow Field House
SUMMARY:Cancelled - Volleyball, Boys Varsity
DESCRIPTION:Volleyball, Boys Varsity\nView the full event details here: https://eventpublisher.dudesolutions.com/ritenour/event/volleyball-boys-varsity-44/
CATEGORIES:1-Athletics
CONTACT:Drew Lohnes,lohnesd@ritenourschools.org,314-493-6139
CLASS:PUBLIC
UID:F563A72A-E8E2-44AF-A59E-8075F410A42F
BEGIN:VALARM
TRIGGER:-PT15M
ACTION:DISPLAY
DESCRIPTION:Cancelled - Volleyball, Boys Varsity
END:VALARM
END:VEVENT
END:VCALENDAR
