BEGIN:VCALENDAR
VERSION:2.0
METHOD:PUBLISH
PRODID:-//ActiveDataExchange/NEXTGEN V1//EN
BEGIN:VEVENT
ORGANIZER:mailto:lohnesd@ritenourschools.org
DTSTART:20260506T223000Z
DTEND:20260506T230000Z
DTSTAMP:20260419T132431Z
LOCATION:Costilow Field House
SUMMARY:Volleyball, Boys Varsity
DESCRIPTION:Volleyball, Boys Varsity\nView the full event details here: https://eventpublisher.dudesolutions.com/ritenour/event/volleyball-boys-varsity-45/
CATEGORIES:1-Athletics
CONTACT:Drew Lohnes,lohnesd@ritenourschools.org,314-493-6139
CLASS:PUBLIC
UID:615C4142-FB57-4A40-9AD8-D1CF2C41535A
BEGIN:VALARM
TRIGGER:-PT15M
ACTION:DISPLAY
DESCRIPTION:Volleyball, Boys Varsity
END:VALARM
END:VEVENT
END:VCALENDAR
