BEGIN:VCALENDAR
VERSION:2.0
METHOD:PUBLISH
PRODID:-//ActiveDataExchange/NEXTGEN V1//EN
BEGIN:VEVENT
ORGANIZER:mailto:lohnesd@ritenourschools.org
DTSTART:20260507T220000Z
DTEND:20260507T223000Z
DTSTAMP:20260419T132513Z
LOCATION:Costilow Field House
SUMMARY:Volleyball, Boys Varsity
DESCRIPTION:Volleyball, Boys Varsity\nView the full event details here: https://eventpublisher.dudesolutions.com/ritenour/event/volleyball-boys-varsity-46/
CATEGORIES:1-Athletics
CONTACT:Drew Lohnes,lohnesd@ritenourschools.org,314-493-6139
CLASS:PUBLIC
UID:E62E54F4-8053-44B4-B6DA-5E6248BF3452
BEGIN:VALARM
TRIGGER:-PT15M
ACTION:DISPLAY
DESCRIPTION:Volleyball, Boys Varsity
END:VALARM
END:VEVENT
END:VCALENDAR
