BEGIN:VCALENDAR
VERSION:2.0
METHOD:PUBLISH
PRODID:-//ActiveDataExchange/NEXTGEN V1//EN
BEGIN:VEVENT
ORGANIZER:mailto:lohnesd@ritenourschools.org
DTSTART:20260427T223000Z
DTEND:20260427T230000Z
DTSTAMP:20260419T132431Z
LOCATION:Costilow Field House
SUMMARY:Volleyball, Boys Varsity
DESCRIPTION:Volleyball, Boys Varsity\nView the full event details here: https://eventpublisher.dudesolutions.com/ritenour/event/volleyball-boys-varsity-48/
CATEGORIES:1-Athletics
CONTACT:Pat Burns,lohnesd@ritenourschools.org
CLASS:PUBLIC
UID:36BB153F-2DA0-40A4-8CB3-519A0DFEF248
BEGIN:VALARM
TRIGGER:-PT15M
ACTION:DISPLAY
DESCRIPTION:Volleyball, Boys Varsity
END:VALARM
END:VEVENT
END:VCALENDAR
