BEGIN:VCALENDAR
VERSION:2.0
METHOD:PUBLISH
PRODID:-//ActiveDataExchange/NEXTGEN V1//EN
BEGIN:VEVENT
ORGANIZER:mailto:lohnesd@ritenourschools.org
DTSTART:20260423T223000Z
DTEND:20260423T230000Z
DTSTAMP:20260419T132430Z
LOCATION:Costilow Field House
SUMMARY:Cancelled - Volleyball, Boys Varsity
DESCRIPTION:Volleyball, Boys Varsity\nView the full event details here: https://eventpublisher.dudesolutions.com/ritenour/event/volleyball-boys-varsity-52/
CATEGORIES:1-Athletics
CONTACT:Pat Burns,lohnesd@ritenourschools.org
CLASS:PUBLIC
UID:E7AAFAD8-4872-4850-AF99-81DDED58DD94
BEGIN:VALARM
TRIGGER:-PT15M
ACTION:DISPLAY
DESCRIPTION:Cancelled - Volleyball, Boys Varsity
END:VALARM
END:VEVENT
END:VCALENDAR
